Workbook
Name dt: 'REMINDER RECORDER'!$AG$11:$AG$35
Name name: 'DIGITAL DIRECTORY'!$Q$13:$Q$37
Name remal: IF(COUNTIF('REMINDER RECORDER'!$C$11:$C$35,'REMINDER RECORDER'!B1)>=2,"DUPLICATE",IF('REMINDER RECORDER'!B1="","",IF('REMINDER RECORDER'!B1<TODAY(),"EXPIRED","ACTIVE")))
Name ddmdtsl: IF('REMINDER RECORDER'!XEB1="",0,COUNTIF('REMINDER RECORDER'!XEB$11:XEB$35,"<="&'REMINDER RECORDER'!XEB1))
Name ddmdt: IFERROR(INDEX('REMINDER RECORDER'!XEA$11:XEA$35,MATCH('REMINDER RECORDER'!XDY1,'REMINDER RECORDER'!XFD$11:XFD$35,0)),"")
Name grpnm: IF('DIGITAL DIRECTORY'!XEU1="",0,'DIGITAL DIRECTORY'!XEV1&" - "&'DIGITAL DIRECTORY'!XET1&" - "&'DIGITAL DIRECTORY'!XEU1)
Name ddmsl: IF('DIGITAL DIRECTORY'!XET1=0,0,COUNTIF('DIGITAL DIRECTORY'!XFD$13:XFD$37,"<="&'DIGITAL DIRECTORY'!XFD1))
Name ddmnam: IFERROR(INDEX('DIGITAL DIRECTORY'!XFC:XFC,MATCH('DIGITAL DIRECTORY'!XEO1,'DIGITAL DIRECTORY'!XFD:XFD,0)),"")
Name bdayrptsel: IF('DIGITAL DIRECTORY'!XEO1="",0,'DIGITAL DIRECTORY'!XEO1&"-"&'DIGITAL DIRECTORY'!XEN1)
Name bdayrptsl: IF('DIGITAL DIRECTORY'!XFD1=0,0,COUNTIF('DIGITAL DIRECTORY'!XFD$13:XFD$37,"<="&'DIGITAL DIRECTORY'!XFD1))
Name adayrptsel: IF('DIGITAL DIRECTORY'!XEN1="",0,'DIGITAL DIRECTORY'!XEN1&"-"&'DIGITAL DIRECTORY'!XEL1)
Name adayrptsl: IF('DIGITAL DIRECTORY'!XFD1=0,0,COUNTIF('DIGITAL DIRECTORY'!XFD$13:XFD$37,"<="&'DIGITAL DIRECTORY'!XFD1))

Sheet MAIN PAGE
H1: System Date | I1: =TODAY() -> 42636
C3: KLiK Reminder | G3: Space Utilization | H3: Total Capacity | I3: Used
G4: Reminder Recorder | H4: 25 | I4: =COUNT('REMINDER RECORDER'!C11:C35) -> 0
G5: Memo | H5: 25 | I5: =COUNTA(MEMO!D10:D34) -> 0
C6: My Smart Information Reminder (Mera SIR) | G6: Digital Directory | H6: 25 | I6: =COUNTA('DIGITAL DIRECTORY'!D13:D37) -> 0
C9: QUICK LINKS | D9: Reminder Recorder | E9: Reminder Alerts | F9: Alerts Dashboard | G9: Reminder Alerts | H9: Birthday Alerts | I9: Anniversary Alerts
D10: My Memos | F10: Today | G10: ='REMINDER RECORDER'!D6 -> 0 | H10: ='DIGITAL DIRECTORY'!B6 -> 0 | I10: ='DIGITAL DIRECTORY'!C6 -> 0
D11: Digital Directory | E11: Directory Alerts | F11: Tomorrow | G11: ='REMINDER RECORDER'!E6 -> 0 | H11: ='DIGITAL DIRECTORY'!B7 -> 0 | I11: ='DIGITAL DIRECTORY'!C7 -> 0
C14: SEARCH DIRECTORY | D14: Select Name (Menu based on Group-Name-Recognation Tag) | G14: Phone 1 | H14: Phone 2 | I14: Phone 3
G15: =INDEX('DIGITAL DIRECTORY'!$G$13:$G$37,MATCH($D$15,'DIGITAL DIRECTORY'!$O$13:$O$37,0)) -> 0 | H15: =INDEX('DIGITAL DIRECTORY'!$H13:$H37,MATCH($D$15,'DIGITAL DIRECTORY'!$O$13:$O$37,0)) -> 0 | I15: =INDEX('DIGITAL DIRECTORY'!$I13:$I37,MATCH($D$15,'DIGITAL DIRECTORY'!$O$13:$O$37,0)) -> 0
G16: Birthday | H16: Anniversary | I16: Blood Group
D17: =INDEX('DIGITAL DIRECTORY'!A13:A37,MATCH(D15,'DIGITAL DIRECTORY'!O13:O37,0)) -> 1 | E17: no. record has been displayed.... | G17: =INDEX('DIGITAL DIRECTORY'!$J$13:$J$37,MATCH($D$15,'DIGITAL DIRECTORY'!$O$13:$O$37,0)) -> 0 | H17: =INDEX('DIGITAL DIRECTORY'!$K$13:$K$37,MATCH($D$15,'DIGITAL DIRECTORY'!$O$13:$O$37,0)) -> 0 | I17: =INDEX('DIGITAL DIRECTORY'!$L$13:$L$37,MATCH($D$15,'DIGITAL DIRECTORY'!$O$13:$O$37,0)) -> 0
C20: Please enter User's Information
C21: User Name - | D21: Please enter user's name | G21: Mobile No. - | H21: User Mobile No.1 | I21: User Mobile No.2
C22: Emergency Numbers - | D22: No. 1 | E22: No.2 | F22: No.3 | G22: Blood Group & Medical Policy Number | H22: Blood Group | I22: Medical Policy No.
C23: Lost & Found : I will be thankful if the founder returns back the device to the above mentioned contatct details.
C26: Version :- 5.17 (demo) | Support :- WPS 9.1.0.4674 | Release Dt. :- 01/07/2016
C27: License :- Freeware (The software is made for distribution & publicity purpose)
C28: If you are satisfied with the software, we would appreciate if you please distribute it and send us a thanks.
C29: Purchase : Visit www.klikinfotech.com (klik & Shop)
C32: Developed by : | D32: Debashish Ray
C33: KLiK Infotech (Join us for your I.T. support), Assammore, PO - Mohit Nagar, Dist - Jalpaiguri, WB - 735102, BHARAT
C34: For feedback & customized software development on spreadsheets, please Contact :- klik.group@yahoo.com website - www.klikinfotech.com | You may also follow us on Facebook, Twitter, Google +, etc.
C37: Making of KLiK Reminder (Mera SIR) :
C38: The software is developed keeping in mind users requirement, like protection of data even if a device fails, quantity of information to be stored, easy access of data which is not possible in other reminders as a user has to scroll through all the dates to see their past, present and future reminders and versatility of accessing data from any sources. Data transfer is very easy from a device to other devices, as KLiK Reminder is a single file and not a installed software into a system, so even if your device fails or you are changing your device or otherwise, your data is safe, just copy paste the KLiK Reminder to other device and it will be operational any time from any PC, Tab or Smart Phone. You can also take print outs of your database.
C39: The name given "KLiK Reminder" (Ver - 2.00) release date 1/1/2016 is as per public opinion. Originally the name termed was "Mera SIR" (Ver 1.00) means "My Head in Hindi", and can manage events for 1000 days, 25 reminders per day at a time that makes to 25,000 reminders which a user may forget if not noted down for future references. Users may re-write the Expired data (records) unlimited times. The elaboration of "SIR" (Smart Information Reminder) is termed later.
C40: While making improvements in "KLiK Reminder" (Ver-3.00, not released); our users we came up with an idea of adding Memo also in KliK Reminder, (included in Ver 4.1 (sp)) release date 26/1/2016, which can manage upto 500 memos at a time and like previous versions, users can overwrite the expired notes unlimited times.
C41: Our final addition to KLiK Reminder is the Digital Directory (included in Ver 5.15 (sp)) release date 06/06/2016, which can manage phone numbers, birthdays, anniversarys and blood group of 500 people at a time, and as usual users may over write expired data unlimited times here also. Users can pull up any data from the search option provided in the Main page and on the top of Digital Directory page. The birthday and anniversary dates are recorded in (dd/mmm) format, which means once user enters the data, the system will display forth comming birthdays and anniversarys every year automatically. Option Directory Alerts displays forth comming birthdays and anniversarys in a listed format. Maintaining Bithdays and Anniversaries in Digital Directory, not only frees space from Reminder Recorder but also keeps users tension less to change the year every time.
C42: Once again our users came up with a suggestion of increasing space in the software and commercializing it. Since our smart phones have limited resources and hence cannot handle such a huge database file efeciently, we extended the version to be operational on any PC, and we extended software's space to 1000 reminders, 1000 memos and digital directory for 1000 people, though you can run the PC version in smart phones and tabs but speed may vary depending on hardware resources.
C45: Features & Instructions of KLiK Reminder (Mera SIR) Ver - X.XX
C46: 1. The application is small & convineant, versatile to any operating system and office software, always safe & secure and user interactive; (always safe even if your phone, tab, computer or storage media damage's, a data recovery can be done to get your data back, though we advise users to keep a backup of KLiK Reminder. Secure as it cannot be infected by viruses or other bugs, until somebody tampers' the software). The application can hold reminders, memos / notes and phone numbers, birthdays, anniversarys and blood groups of XXX numbers of people (THE QUANTITY DIFFERS IN DIFFERENT VERSIONS AS PER COST, VISIT WWW.KLIKINFOTECH.COM). The Expired records can be over written unlimited times. (People require more or less space may contact us, we will be happy to serve you). Users may Copy Paste the application to their preferred device, or for distribution.
C47: 2. The system can be run in any operating system, adaptable to any office softwares, can work on smart phones, tablets, computers etc., can be operated from cloud as per user's necessity, from any external storage device plugged into a computer (like pen drive or memory cards). (The system works best in WPS Office and WPS Office can be installed in all major operating systems like Windows, Linix, Android, and Mac). The colour graphics may vary depending on office software. In case any user is not able to activate "Quick Links" by clicking on the link (like users of Libre Office), please use (Ctrl+mouse click) to activate the link or install WPS office on your system, it is freely available.
C48: 3. The "Reminder Recorder" option records your reminders and displays different alerts related to the reminders in the "ALERT" column in different colours. It can handle (XXX - DEPENDS ON VERSION PURCHASED) no. of days of remider at a time. Users can filter informations by clicking on the drop down arrow provided on the column head as per their reqirement, accross the columns and can access their reminders. User's who are not able to use "Search Reminder" option on their Smart Phones may filter "DATE" column by clicking on the drop down arrow provided on the column head. User's may enter new reminders without any chronological order and by over writting the "Expired" reminders also.
... C59: 6. To take backup of KLiK Reminder, just copy and paste the file to your desired place. (It is always advisable to store a backup of your database)
B62: Now stay tension less, as your valuable data is safe even if your device fails.....

Sheet REMINDER RECORDER
A2: HOME PAGE | C2: System Date | D2: =TODAY() -> 42636 | E2: REMINDER RECORDER
A5: Total Capacity : 25 | C5: ="ACTIVE Reminders : "&COUNTIF(B11:B35,"ACTIVE") -> ACTIVE Reminders : 0 | D5: Today's Reminder | E5: Tomorrow's Reminder
A6: ="Used : "&COUNT(C11:C35) -> Used : 0 | C6: ="EXPIRED Reminders : "&COUNTIF(B11:B35,"EXPIRED") -> EXPIRED Reminders : 0 | D6: =COUNTIF(C$11:C$35,TODAY()) -> 0 | E6: =COUNTIF(C$11:C$35,TODAY()+1) -> 0
A9: Users may Click on the down arrow key provided on column heads to filter data and use (Ctrl+F or Find) option to search any data.
A10: REC.NO. | B10: ALERT | C10: ** DATE (Compulsory Fill) | D10: REMINDER 1 | E10: REMINDER 2 | F10: REMINDER 3 | G10: REMINDER 4 | H10: REMINDER 5 | I10: REMINDER 6 | J10: REMINDER 7 | K10: REMINDER 8 | L10: REMINDER 9 | M10: REMINDER 10 | N10: REMINDER 11 | O10: REMINDER 12 | P10: REMINDER 13 | Q10: REMINDER 14 | R10: REMINDER 15 | S10: REMINDER 16 | T10: REMINDER 17 | U10: REMINDER 18 | V10: REMINDER 19 | W10: REMINDER 20 | X10: REMINDER 21 | Y10: REMINDER 22 | Z10: REMINDER 23 | AA10: REMINDER 24 | AB10: REMINDER 25 | AF10: ddm dt sl | AG10: ddm dt
A11: 1 | B11: =remal | AF11: =ddmdtsl -> 0 | AG11: =ddmdt
A12: 2 | B12: =remal | AF12: =ddmdtsl -> 0 | AG12: =ddmdt
A13: 3 | B13: =remal | AF13: =ddmdtsl -> 0 | AG13: =ddmdt
A14: 4 | B14: =remal | AF14: =ddmdtsl -> 0 | AG14: =ddmdt
A15: 5 | B15: =remal | AF15: =ddmdtsl -> 0 | AG15: =ddmdt
A16: 6 | B16: =remal | AF16: =ddmdtsl -> 0 | AG16: =ddmdt
A17: 7 | B17: =remal | AF17: =ddmdtsl -> 0 | AG17: =ddmdt
A18: 8 | B18: =remal | AF18: =ddmdtsl -> 0 | AG18: =ddmdt
A19: 9 | B19: =remal | AF19: =ddmdtsl -> 0 | AG19: =ddmdt
A20: 10 | B20: =remal | AF20: =ddmdtsl -> 0 | AG20: =ddmdt
A21: 11 | B21: =remal | AF21: =ddmdtsl -> 0 | AG21: =ddmdt
A22: 12 | B22: =remal | AF22: =ddmdtsl -> 0 | AG22: =ddmdt
... A35: 25 | B35: =remal | AF35: =ddmdtsl -> 0 | AG35: =ddmdt

Sheet REMINDER ALERTS
A2: HOME PAGE | B2: REMINDER ALERTs
A5: TODAY'S DATE | B5: TODAY's REMINDERs
A6: =TODAY() -> 42636 | B6: =IFERROR("Reminders of Record No.- "&INDEX('REMINDER RECORDER'!A$11:A$35,MATCH($A$6,'REMINDER RECORDER'!C$11:C$35,0)),"No Record Found") -> No Record Found
A9: Reminder No. | B9: ="Hi !!! "&'MAIN PAGE'!D21&", do you remember ????" -> Hi !!! Please enter user's name, do you remember ????
A10: 1 | B10: =INDEX('REMINDER RECORDER'!D$11:D$35,MATCH($A$6,'REMINDER RECORDER'!C$11:C$35,0)) -> #N/A
A11: 2 | B11: =INDEX('REMINDER RECORDER'!E$11:E$35,MATCH($A$6,'REMINDER RECORDER'!C$11:C$35,0)) -> #N/A
A12: 3 | B12: =INDEX('REMINDER RECORDER'!F$11:F$35,MATCH($A$6,'REMINDER RECORDER'!C$11:C$35,0)) -> #N/A
A13: 4 | B13: =INDEX('REMINDER RECORDER'!G$11:G$35,MATCH($A$6,'REMINDER RECORDER'!C$11:C$35,0)) -> #N/A
A14: 5 | B14: =INDEX('REMINDER RECORDER'!H$11:H$35,MATCH($A$6,'REMINDER RECORDER'!C$11:C$35,0)) -> #N/A
A15: 6 | B15: =INDEX('REMINDER RECORDER'!I$11:I$35,MATCH($A$6,'REMINDER RECORDER'!C$11:C$35,0)) -> #N/A
A16: 7 | B16: =INDEX('REMINDER RECORDER'!J$11:J$35,MATCH($A$6,'REMINDER RECORDER'!C$11:C$35,0)) -> #N/A
A17: 8 | B17: =INDEX('REMINDER RECORDER'!K$11:K$35,MATCH($A$6,'REMINDER RECORDER'!C$11:C$35,0)) -> #N/A
A18: 9 | B18: =INDEX('REMINDER RECORDER'!L$11:L$35,MATCH($A$6,'REMINDER RECORDER'!C$11:C$35,0)) -> #N/A
A19: 10 | B19: =INDEX('REMINDER RECORDER'!M$11:M$35,MATCH($A$6,'REMINDER RECORDER'!C$11:C$35,0)) -> #N/A
A20: 11 | B20: =INDEX('REMINDER RECORDER'!N$11:N$35,MATCH($A$6,'REMINDER RECORDER'!C$11:C$35,0)) -> #N/A
A21: 12 | B21: =INDEX('REMINDER RECORDER'!O$11:O$35,MATCH($A$6,'REMINDER RECORDER'!C$11:C$35,0)) -> #N/A
A22: 13 | B22: =INDEX('REMINDER RECORDER'!P$11:P$35,MATCH($A$6,'REMINDER RECORDER'!C$11:C$35,0)) -> #N/A
A23: 14 | B23: =INDEX('REMINDER RECORDER'!Q$11:Q$35,MATCH($A$6,'REMINDER RECORDER'!C$11:C$35,0)) -> #N/A
A24: 15 | B24: =INDEX('REMINDER RECORDER'!R$11:R$35,MATCH($A$6,'REMINDER RECORDER'!C$11:C$35,0)) -> #N/A
A25: 16 | B25: =INDEX('REMINDER RECORDER'!S$11:S$35,MATCH($A$6,'REMINDER RECORDER'!C$11:C$35,0)) -> #N/A
A26: 17 | B26: =INDEX('REMINDER RECORDER'!T$11:T$35,MATCH($A$6,'REMINDER RECORDER'!C$11:C$35,0)) -> #N/A
A27: 18 | B27: =INDEX('REMINDER RECORDER'!U$11:U$35,MATCH($A$6,'REMINDER RECORDER'!C$11:C$35,0)) -> #N/A
A28: 19 | B28: =INDEX('REMINDER RECORDER'!V$11:V$35,MATCH($A$6,'REMINDER RECORDER'!C$11:C$35,0)) -> #N/A
A29: 20 | B29: =INDEX('REMINDER RECORDER'!W$11:W$35,MATCH($A$6,'REMINDER RECORDER'!C$11:C$35,0)) -> #N/A
A30: 21 | B30: =INDEX('REMINDER RECORDER'!X$11:X$35,MATCH($A$6,'REMINDER RECORDER'!C$11:C$35,0)) -> #N/A
A31: 22 | B31: =INDEX('REMINDER RECORDER'!Y$11:Y$35,MATCH($A$6,'REMINDER RECORDER'!C$11:C$35,0)) -> #N/A
A32: 23 | B32: =INDEX('REMINDER RECORDER'!Z$11:Z$35,MATCH($A$6,'REMINDER RECORDER'!C$11:C$35,0)) -> #N/A
A33: 24 | B33: =INDEX('REMINDER RECORDER'!AA$11:AA$35,MATCH($A$6,'REMINDER RECORDER'!C$11:C$35,0)) -> #N/A
A34: 25 | B34: =INDEX('REMINDER RECORDER'!AB$11:AB$35,MATCH($A$6,'REMINDER RECORDER'!C$11:C$35,0)) -> #N/A
A39: TOMORROW'S DATE | B39: TOMORROW's REMINDERs
A40: =TODAY()+1 -> 42637 | B40: =IFERROR("Reminders of Record No.- "&INDEX('REMINDER RECORDER'!A$11:A$35,MATCH($A$40,'REMINDER RECORDER'!C$11:C$35,0)),"No Record Found") -> No Record Found
A43: Reminder No. | B43: Your tomorrow's reminders are ....
A44: 1 | B44: =INDEX('REMINDER RECORDER'!D$11:D$35,MATCH($A$40,'REMINDER RECORDER'!C$11:C$35,0)) -> #N/A
A45: 2 | B45: =INDEX('REMINDER RECORDER'!E$11:E$35,MATCH($A$40,'REMINDER RECORDER'!C$11:C$35,0)) -> #N/A
A46: 3 | B46: =INDEX('REMINDER RECORDER'!F$11:F$35,MATCH($A$40,'REMINDER RECORDER'!C$11:C$35,0)) -> #N/A
A47: 4 | B47: =INDEX('REMINDER RECORDER'!G$11:G$35,MATCH($A$40,'REMINDER RECORDER'!C$11:C$35,0)) -> #N/A
A48: 5 | B48: =INDEX('REMINDER RECORDER'!H$11:H$35,MATCH($A$40,'REMINDER RECORDER'!C$11:C$35,0)) -> #N/A
A49: 6 | B49: =INDEX('REMINDER RECORDER'!I$11:I$35,MATCH($A$40,'REMINDER RECORDER'!C$11:C$35,0)) -> #N/A
A50: 7 | B50: =INDEX('REMINDER RECORDER'!J$11:J$35,MATCH($A$40,'REMINDER RECORDER'!C$11:C$35,0)) -> #N/A
A51: 8 | B51: =INDEX('REMINDER RECORDER'!K$11:K$35,MATCH($A$40,'REMINDER RECORDER'!C$11:C$35,0)) -> #N/A
A52: 9 | B52: =INDEX('REMINDER RECORDER'!L$11:L$35,MATCH($A$40,'REMINDER RECORDER'!C$11:C$35,0)) -> #N/A
A53: 10 | B53: =INDEX('REMINDER RECORDER'!M$11:M$35,MATCH($A$40,'REMINDER RECORDER'!C$11:C$35,0)) -> #N/A
A54: 11 | B54: =INDEX('REMINDER RECORDER'!N$11:N$35,MATCH($A$40,'REMINDER RECORDER'!C$11:C$35,0)) -> #N/A
A55: 12 | B55: =INDEX('REMINDER RECORDER'!O$11:O$35,MATCH($A$40,'REMINDER RECORDER'!C$11:C$35,0)) -> #N/A
A56: 13 | B56: =INDEX('REMINDER RECORDER'!P$11:P$35,MATCH($A$40,'REMINDER RECORDER'!C$11:C$35,0)) -> #N/A
A57: 14 | B57: =INDEX('REMINDER RECORDER'!Q$11:Q$35,MATCH($A$40,'REMINDER RECORDER'!C$11:C$35,0)) -> #N/A
A58: 15 | B58: =INDEX('REMINDER RECORDER'!R$11:R$35,MATCH($A$40,'REMINDER RECORDER'!C$11:C$35,0)) -> #N/A
A59: 16 | B59: =INDEX('REMINDER RECORDER'!S$11:S$35,MATCH($A$40,'REMINDER RECORDER'!C$11:C$35,0)) -> #N/A
A60: 17 | B60: =INDEX('REMINDER RECORDER'!T$11:T$35,MATCH($A$40,'REMINDER RECORDER'!C$11:C$35,0)) -> #N/A
A61: 18 | B61: =INDEX('REMINDER RECORDER'!U$11:U$35,MATCH($A$40,'REMINDER RECORDER'!C$11:C$35,0)) -> #N/A
A62: 19 | B62: =INDEX('REMINDER RECORDER'!V$11:V$35,MATCH($A$40,'REMINDER RECORDER'!C$11:C$35,0)) -> #N/A
A63: 20 | B63: =INDEX('REMINDER RECORDER'!W$11:W$35,MATCH($A$40,'REMINDER RECORDER'!C$11:C$35,0)) -> #N/A
A64: 21 | B64: =INDEX('REMINDER RECORDER'!X$11:X$35,MATCH($A$40,'REMINDER RECORDER'!C$11:C$35,0)) -> #N/A
A65: 22 | B65: =INDEX('REMINDER RECORDER'!Y$11:Y$35,MATCH($A$40,'REMINDER RECORDER'!C$11:C$35,0)) -> #N/A
A66: 23 | B66: =INDEX('REMINDER RECORDER'!Z$11:Z$35,MATCH($A$40,'REMINDER RECORDER'!C$11:C$35,0)) -> #N/A
A67: 24 | B67: =INDEX('REMINDER RECORDER'!AA$11:AA$35,MATCH($A$40,'REMINDER RECORDER'!C$11:C$35,0)) -> #N/A
A68: 25 | B68: =INDEX('REMINDER RECORDER'!AB$11:AB$35,MATCH($A$40,'REMINDER RECORDER'!C$11:C$35,0)) -> #N/A
A73: SELECT DATE | B73: SEARCH REMINDER
A74: 42452 | B74: =IFERROR("Reminders of Record No.- "&INDEX('REMINDER RECORDER'!A$11:A$35,MATCH($A$74,'REMINDER RECORDER'!C$11:C$35,0)),"No Record Found") -> No Record Found
A77: Reminder No. | B77: ="Hi !!! "&'MAIN PAGE'!D21&", your search result is ..." -> Hi !!! Please enter user's name, your search result is ...
A78: 1 | B78: =INDEX('REMINDER RECORDER'!D$11:D$35,MATCH($A$74,'REMINDER RECORDER'!C$11:C$35,0)) -> #N/A
A79: 2 | B79: =INDEX('REMINDER RECORDER'!E$11:E$35,MATCH($A$74,'REMINDER RECORDER'!C$11:C$35,0)) -> #N/A
A80: 3 | B80: =INDEX('REMINDER RECORDER'!F$11:F$35,MATCH($A$74,'REMINDER RECORDER'!C$11:C$35,0)) -> #N/A
A81: 4 | B81: =INDEX('REMINDER RECORDER'!G$11:G$35,MATCH($A$74,'REMINDER RECORDER'!C$11:C$35,0)) -> #N/A
A82: 5 | B82: =INDEX('REMINDER RECORDER'!H$11:H$35,MATCH($A$74,'REMINDER RECORDER'!C$11:C$35,0)) -> #N/A
A83: 6 | B83: =INDEX('REMINDER RECORDER'!I$11:I$35,MATCH($A$74,'REMINDER RECORDER'!C$11:C$35,0)) -> #N/A
A84: 7 | B84: =INDEX('REMINDER RECORDER'!J$11:J$35,MATCH($A$74,'REMINDER RECORDER'!C$11:C$35,0)) -> #N/A
A85: 8 | B85: =INDEX('REMINDER RECORDER'!K$11:K$35,MATCH($A$74,'REMINDER RECORDER'!C$11:C$35,0)) -> #N/A
A86: 9 | B86: =INDEX('REMINDER RECORDER'!L$11:L$35,MATCH($A$74,'REMINDER RECORDER'!C$11:C$35,0)) -> #N/A
A87: 10 | B87: =INDEX('REMINDER RECORDER'!M$11:M$35,MATCH($A$74,'REMINDER RECORDER'!C$11:C$35,0)) -> #N/A
A88: 11 | B88: =INDEX('REMINDER RECORDER'!N$11:N$35,MATCH($A$74,'REMINDER RECORDER'!C$11:C$35,0)) -> #N/A
A89: 12 | B89: =INDEX('REMINDER RECORDER'!O$11:O$35,MATCH($A$74,'REMINDER RECORDER'!C$11:C$35,0)) -> #N/A
A90: 13 | B90: =INDEX('REMINDER RECORDER'!P$11:P$35,MATCH($A$74,'REMINDER RECORDER'!C$11:C$35,0)) -> #N/A
A91: 14 | B91: =INDEX('REMINDER RECORDER'!Q$11:Q$35,MATCH($A$74,'REMINDER RECORDER'!C$11:C$35,0)) -> #N/A
A92: 15 | B92: =INDEX('REMINDER RECORDER'!R$11:R$35,MATCH($A$74,'REMINDER RECORDER'!C$11:C$35,0)) -> #N/A
A93: 16 | B93: =INDEX('REMINDER RECORDER'!S$11:S$35,MATCH($A$74,'REMINDER RECORDER'!C$11:C$35,0)) -> #N/A
A94: 17 | B94: =INDEX('REMINDER RECORDER'!T$11:T$35,MATCH($A$74,'REMINDER RECORDER'!C$11:C$35,0)) -> #N/A
A95: 18 | B95: =INDEX('REMINDER RECORDER'!U$11:U$35,MATCH($A$74,'REMINDER RECORDER'!C$11:C$35,0)) -> #N/A
A96: 19 | B96: =INDEX('REMINDER RECORDER'!V$11:V$35,MATCH($A$74,'REMINDER RECORDER'!C$11:C$35,0)) -> #N/A
A97: 20 | B97: =INDEX('REMINDER RECORDER'!W$11:W$35,MATCH($A$74,'REMINDER RECORDER'!C$11:C$35,0)) -> #N/A
A98: 21 | B98: =INDEX('REMINDER RECORDER'!X$11:X$35,MATCH($A$74,'REMINDER RECORDER'!C$11:C$35,0)) -> #N/A
A99: 22 | B99: =INDEX('REMINDER RECORDER'!Y$11:Y$35,MATCH($A$74,'REMINDER RECORDER'!C$11:C$35,0)) -> #N/A
A100: 23 | B100: =INDEX('REMINDER RECORDER'!Z$11:Z$35,MATCH($A$74,'REMINDER RECORDER'!C$11:C$35,0)) -> #N/A
A101: 24 | B101: =INDEX('REMINDER RECORDER'!AA$11:AA$35,MATCH($A$74,'REMINDER RECORDER'!C$11:C$35,0)) -> #N/A
A102: 25 | B102: =INDEX('REMINDER RECORDER'!AB$11:AB$35,MATCH($A$74,'REMINDER RECORDER'!C$11:C$35,0)) -> #N/A

Sheet MEMO
A2: HOME PAGE | B2: System Date | C2: =TODAY() -> 42636 | D2: My Memos
A5: Total Capacity : 25 | B5: ="Used : "&COUNTA(D10:D34) -> Used : 0
A8: Users may Click on the down arrow key provided on column heads to filter data and use (Ctrl+F or Find) option to search any data.
A9: Rec. No. | B9: Date | C9: Topic / Group | D9: ** Memo / Task List (Compulsory Fill)
A10: 1
A11: 2
A12: 3
A13: 4
A14: 5
A15: 6
A16: 7
A17: 8
A18: 9
A19: 10
A20: 11
A21: 12
... A34: 25

Sheet DIGITAL DIRECTORY
A2: HOME PAGE | B2: System Date | C2: =TODAY() -> 42636 | D2: MY DIGITAL DIRECTORY
A5: Alerts Table | B5: Birthday | C5: Anniversary | D5: Select Name (Menu based on Group-Name-Recognation Tag) | F5: Phone 1 | G5: Phone 2 | H5: Phone 3 | I5: Total Capacity
A6: Today | B6: =COUNTIF(B13:B8881,"Today") -> 0 | C6: =COUNTIF(C13:C8881,"Today") -> 0 | F6: =INDEX(G$13:G$37,MATCH($D$8,$A$13:$A$37,0)) -> 0 | G6: =INDEX(H$13:H$37,MATCH($D$8,$A$13:$A$37,0)) -> 0 | H6: =INDEX(I$13:I$37,MATCH($D$8,$A$13:$A$37,0)) -> 0 | I6: 25
A7: Tomorrow | B7: =COUNTIF(B13:B8881,"Tomorrow") -> 0 | C7: =COUNTIF(C13:C8881,"Tomorrow") -> 0 | F7: Birthday | G7: Anniversary | H7: Blood Group | I7: Used
A8: QUICK LINK - to Directory Alerts list | D8: =INDEX(A$13:A$37,MATCH(D6,O$13:O$37,0)) -> 1 | E8: =" no. record has been displayed...." -> no. record has been displayed.... | F8: =INDEX(J$13:J$37,MATCH($D$8,$A$13:$A$37,0)) -> 0 | G8: =INDEX(K$13:K$37,MATCH($D$8,$A$13:$A$37,0)) -> 0 | H8: =INDEX(L$13:L$37,MATCH($D$8,$A$13:$A$37,0)) -> 0 | I8: =COUNTA(D13:D37) -> 0
A11: Please click on the drop down arrow of the column heads to filter respective column inforamtions or to see the birthday / aniversary lists.
A12: Rec.No. | B12: Birthday Alerts | C12: Anniversary Alerts | D12: Name | E12: ** Recognation Tag (Compulsory Fill) | F12: Group | G12: Phone 1 | H12: Phone 2 | I12: Phone 3 | J12: Birthday | K12: Anniversary | L12: Blood Group | O12: group-NAME & RECOGNITION | P12: DDM SL | Q12: DDM NAME | R12: BDAY RPT SEL | S12: BDAY RPT SL | T12: ADAY RPT SEL | U12: ADAY RPT SL
A13: 1 | B13: =bdayal | C13: =annal | O13: =grpnm -> 0 | P13: =ddmsl -> 0 | Q13: =ddmnam | R13: =bdayrptsel -> 0 | S13: =bdayrptsl -> 0 | T13: =adayrptsel -> 0 | U13: =adayrptsl -> 0
A14: 2 | B14: =bdayal | C14: =annal | O14: =grpnm -> 0 | P14: =ddmsl -> 0 | Q14: =ddmnam | R14: =bdayrptsel -> 0 | S14: =bdayrptsl -> 0 | T14: =adayrptsel -> 0 | U14: =adayrptsl -> 0
A15: 3 | B15: =bdayal | C15: =annal | O15: =grpnm -> 0 | P15: =ddmsl -> 0 | Q15: =ddmnam | R15: =bdayrptsel -> 0 | S15: =bdayrptsl -> 0 | T15: =adayrptsel -> 0 | U15: =adayrptsl -> 0
A16: 4 | B16: =bdayal | C16: =annal | O16: =grpnm -> 0 | P16: =ddmsl -> 0 | Q16: =ddmnam | R16: =bdayrptsel -> 0 | S16: =bdayrptsl -> 0 | T16: =adayrptsel -> 0 | U16: =adayrptsl -> 0
A17: 5 | B17: =bdayal | C17: =annal | O17: =grpnm -> 0 | P17: =ddmsl -> 0 | Q17: =ddmnam | R17: =bdayrptsel -> 0 | S17: =bdayrptsl -> 0 | T17: =adayrptsel -> 0 | U17: =adayrptsl -> 0
A18: 6 | B18: =bdayal | C18: =annal | O18: =grpnm -> 0 | P18: =ddmsl -> 0 | Q18: =ddmnam | R18: =bdayrptsel -> 0 | S18: =bdayrptsl -> 0 | T18: =adayrptsel -> 0 | U18: =adayrptsl -> 0
A19: 7 | B19: =bdayal | C19: =annal | O19: =grpnm -> 0 | P19: =ddmsl -> 0 | Q19: =ddmnam | R19: =bdayrptsel -> 0 | S19: =bdayrptsl -> 0 | T19: =adayrptsel -> 0 | U19: =adayrptsl -> 0
A20: 8 | B20: =bdayal | C20: =annal | O20: =grpnm -> 0 | P20: =ddmsl -> 0 | Q20: =ddmnam | R20: =bdayrptsel -> 0 | S20: =bdayrptsl -> 0 | T20: =adayrptsel -> 0 | U20: =adayrptsl -> 0
A21: 9 | B21: =bdayal | C21: =annal | O21: =grpnm -> 0 | P21: =ddmsl -> 0 | Q21: =ddmnam | R21: =bdayrptsel -> 0 | S21: =bdayrptsl -> 0 | T21: =adayrptsel -> 0 | U21: =adayrptsl -> 0
A22: 10 | B22: =bdayal | C22: =annal | O22: =grpnm -> 0 | P22: =ddmsl -> 0 | Q22: =ddmnam | R22: =bdayrptsel -> 0 | S22: =bdayrptsl -> 0 | T22: =adayrptsel -> 0 | U22: =adayrptsl -> 0
A23: 11 | B23: =bdayal | C23: =annal | O23: =grpnm -> 0 | P23: =ddmsl -> 0 | Q23: =ddmnam | R23: =bdayrptsel -> 0 | S23: =bdayrptsl -> 0 | T23: =adayrptsel -> 0 | U23: =adayrptsl -> 0
A24: 12 | B24: =bdayal | C24: =annal | O24: =grpnm -> 0 | P24: =ddmsl -> 0 | Q24: =ddmnam | R24: =bdayrptsel -> 0 | S24: =bdayrptsl -> 0 | T24: =adayrptsel -> 0 | U24: =adayrptsl -> 0
... A37: 25 | B37: =bdayal | C37: =annal | O37: =grpnm -> 0 | P37: =ddmsl -> 0 | Q37: =ddmnam | R37: =bdayrptsel -> 0 | S37: =bdayrptsl -> 0 | T37: =adayrptsel -> 0 | U37: =adayrptsl -> 0

Sheet DIRECTORY ALERTS
A2: HOME PAGE | B2: System Date | C2: =TODAY() -> 42636 | D2: BIRTH DAY ALERT's
A5: Sl.No. | B5: Alarm | C5: Date | D5: Rec.No. | E5: Name | F5: Recognition Tag | G5: Group | H5: Phone 1 | I5: Phone 2 | J5: Phone 3
A6: 1 | B6: =IFERROR(INDEX('DIGITAL DIRECTORY'!B:B,MATCH($A6,'DIGITAL DIRECTORY'!$S:$S,0)),"") | C6: =IFERROR(INDEX('DIGITAL DIRECTORY'!J:J,MATCH($A6,'DIGITAL DIRECTORY'!$S:$S,0)),"") | D6: =IFERROR(INDEX('DIGITAL DIRECTORY'!A:A,MATCH($A6,'DIGITAL DIRECTORY'!$S:$S,0)),"") | E6: =IFERROR(INDEX('DIGITAL DIRECTORY'!D:D,MATCH($A6,'DIGITAL DIRECTORY'!$S:$S,0)),"") | F6: =IFERROR(INDEX('DIGITAL DIRECTORY'!E:E,MATCH($A6,'DIGITAL DIRECTORY'!$S:$S,0)),"") | G6: =IFERROR(INDEX('DIGITAL DIRECTORY'!F:F,MATCH($A6,'DIGITAL DIRECTORY'!$S:$S,0)),"") | H6: =IFERROR(INDEX('DIGITAL DIRECTORY'!G:G,MATCH($A6,'DIGITAL DIRECTORY'!$S:$S,0)),"") | I6: =IFERROR(INDEX('DIGITAL DIRECTORY'!H:H,MATCH($A6,'DIGITAL DIRECTORY'!$S:$S,0)),"") | J6: =IFERROR(INDEX('DIGITAL DIRECTORY'!I:I,MATCH($A6,'DIGITAL DIRECTORY'!$S:$S,0)),"")
A7: 2 | B7: =IFERROR(INDEX('DIGITAL DIRECTORY'!B:B,MATCH($A7,'DIGITAL DIRECTORY'!$S:$S,0)),"") | C7: =IFERROR(INDEX('DIGITAL DIRECTORY'!J:J,MATCH($A7,'DIGITAL DIRECTORY'!$S:$S,0)),"") | D7: =IFERROR(INDEX('DIGITAL DIRECTORY'!A:A,MATCH($A7,'DIGITAL DIRECTORY'!$S:$S,0)),"") | E7: =IFERROR(INDEX('DIGITAL DIRECTORY'!D:D,MATCH($A7,'DIGITAL DIRECTORY'!$S:$S,0)),"") | F7: =IFERROR(INDEX('DIGITAL DIRECTORY'!E:E,MATCH($A7,'DIGITAL DIRECTORY'!$S:$S,0)),"") | G7: =IFERROR(INDEX('DIGITAL DIRECTORY'!F:F,MATCH($A7,'DIGITAL DIRECTORY'!$S:$S,0)),"") | H7: =IFERROR(INDEX('DIGITAL DIRECTORY'!G:G,MATCH($A7,'DIGITAL DIRECTORY'!$S:$S,0)),"") | I7: =IFERROR(INDEX('DIGITAL DIRECTORY'!H:H,MATCH($A7,'DIGITAL DIRECTORY'!$S:$S,0)),"") | J7: =IFERROR(INDEX('DIGITAL DIRECTORY'!I:I,MATCH($A7,'DIGITAL DIRECTORY'!$S:$S,0)),"")
A8: 3 | B8: =IFERROR(INDEX('DIGITAL DIRECTORY'!B:B,MATCH($A8,'DIGITAL DIRECTORY'!$S:$S,0)),"") | C8: =IFERROR(INDEX('DIGITAL DIRECTORY'!J:J,MATCH($A8,'DIGITAL DIRECTORY'!$S:$S,0)),"") | D8: =IFERROR(INDEX('DIGITAL DIRECTORY'!A:A,MATCH($A8,'DIGITAL DIRECTORY'!$S:$S,0)),"") | E8: =IFERROR(INDEX('DIGITAL DIRECTORY'!D:D,MATCH($A8,'DIGITAL DIRECTORY'!$S:$S,0)),"") | F8: =IFERROR(INDEX('DIGITAL DIRECTORY'!E:E,MATCH($A8,'DIGITAL DIRECTORY'!$S:$S,0)),"") | G8: =IFERROR(INDEX('DIGITAL DIRECTORY'!F:F,MATCH($A8,'DIGITAL DIRECTORY'!$S:$S,0)),"") | H8: =IFERROR(INDEX('DIGITAL DIRECTORY'!G:G,MATCH($A8,'DIGITAL DIRECTORY'!$S:$S,0)),"") | I8: =IFERROR(INDEX('DIGITAL DIRECTORY'!H:H,MATCH($A8,'DIGITAL DIRECTORY'!$S:$S,0)),"") | J8: =IFERROR(INDEX('DIGITAL DIRECTORY'!I:I,MATCH($A8,'DIGITAL DIRECTORY'!$S:$S,0)),"")
A9: 4 | B9: =IFERROR(INDEX('DIGITAL DIRECTORY'!B:B,MATCH($A9,'DIGITAL DIRECTORY'!$S:$S,0)),"") | C9: =IFERROR(INDEX('DIGITAL DIRECTORY'!J:J,MATCH($A9,'DIGITAL DIRECTORY'!$S:$S,0)),"") | D9: =IFERROR(INDEX('DIGITAL DIRECTORY'!A:A,MATCH($A9,'DIGITAL DIRECTORY'!$S:$S,0)),"") | E9: =IFERROR(INDEX('DIGITAL DIRECTORY'!D:D,MATCH($A9,'DIGITAL DIRECTORY'!$S:$S,0)),"") | F9: =IFERROR(INDEX('DIGITAL DIRECTORY'!E:E,MATCH($A9,'DIGITAL DIRECTORY'!$S:$S,0)),"") | G9: =IFERROR(INDEX('DIGITAL DIRECTORY'!F:F,MATCH($A9,'DIGITAL DIRECTORY'!$S:$S,0)),"") | H9: =IFERROR(INDEX('DIGITAL DIRECTORY'!G:G,MATCH($A9,'DIGITAL DIRECTORY'!$S:$S,0)),"") | I9: =IFERROR(INDEX('DIGITAL DIRECTORY'!H:H,MATCH($A9,'DIGITAL DIRECTORY'!$S:$S,0)),"") | J9: =IFERROR(INDEX('DIGITAL DIRECTORY'!I:I,MATCH($A9,'DIGITAL DIRECTORY'!$S:$S,0)),"")
A10: 5 | B10: =IFERROR(INDEX('DIGITAL DIRECTORY'!B:B,MATCH($A10,'DIGITAL DIRECTORY'!$S:$S,0)),"") | C10: =IFERROR(INDEX('DIGITAL DIRECTORY'!J:J,MATCH($A10,'DIGITAL DIRECTORY'!$S:$S,0)),"") | D10: =IFERROR(INDEX('DIGITAL DIRECTORY'!A:A,MATCH($A10,'DIGITAL DIRECTORY'!$S:$S,0)),"") | E10: =IFERROR(INDEX('DIGITAL DIRECTORY'!D:D,MATCH($A10,'DIGITAL DIRECTORY'!$S:$S,0)),"") | F10: =IFERROR(INDEX('DIGITAL DIRECTORY'!E:E,MATCH($A10,'DIGITAL DIRECTORY'!$S:$S,0)),"") | G10: =IFERROR(INDEX('DIGITAL DIRECTORY'!F:F,MATCH($A10,'DIGITAL DIRECTORY'!$S:$S,0)),"") | H10: =IFERROR(INDEX('DIGITAL DIRECTORY'!G:G,MATCH($A10,'DIGITAL DIRECTORY'!$S:$S,0)),"") | I10: =IFERROR(INDEX('DIGITAL DIRECTORY'!H:H,MATCH($A10,'DIGITAL DIRECTORY'!$S:$S,0)),"") | J10: =IFERROR(INDEX('DIGITAL DIRECTORY'!I:I,MATCH($A10,'DIGITAL DIRECTORY'!$S:$S,0)),"")
A11: 6 | B11: =IFERROR(INDEX('DIGITAL DIRECTORY'!B:B,MATCH($A11,'DIGITAL DIRECTORY'!$S:$S,0)),"") | C11: =IFERROR(INDEX('DIGITAL DIRECTORY'!J:J,MATCH($A11,'DIGITAL DIRECTORY'!$S:$S,0)),"") | D11: =IFERROR(INDEX('DIGITAL DIRECTORY'!A:A,MATCH($A11,'DIGITAL DIRECTORY'!$S:$S,0)),"") | E11: =IFERROR(INDEX('DIGITAL DIRECTORY'!D:D,MATCH($A11,'DIGITAL DIRECTORY'!$S:$S,0)),"") | F11: =IFERROR(INDEX('DIGITAL DIRECTORY'!E:E,MATCH($A11,'DIGITAL DIRECTORY'!$S:$S,0)),"") | G11: =IFERROR(INDEX('DIGITAL DIRECTORY'!F:F,MATCH($A11,'DIGITAL DIRECTORY'!$S:$S,0)),"") | H11: =IFERROR(INDEX('DIGITAL DIRECTORY'!G:G,MATCH($A11,'DIGITAL DIRECTORY'!$S:$S,0)),"") | I11: =IFERROR(INDEX('DIGITAL DIRECTORY'!H:H,MATCH($A11,'DIGITAL DIRECTORY'!$S:$S,0)),"") | J11: =IFERROR(INDEX('DIGITAL DIRECTORY'!I:I,MATCH($A11,'DIGITAL DIRECTORY'!$S:$S,0)),"")
A12: 7 | B12: =IFERROR(INDEX('DIGITAL DIRECTORY'!B:B,MATCH($A12,'DIGITAL DIRECTORY'!$S:$S,0)),"") | C12: =IFERROR(INDEX('DIGITAL DIRECTORY'!J:J,MATCH($A12,'DIGITAL DIRECTORY'!$S:$S,0)),"") | D12: =IFERROR(INDEX('DIGITAL DIRECTORY'!A:A,MATCH($A12,'DIGITAL DIRECTORY'!$S:$S,0)),"") | E12: =IFERROR(INDEX('DIGITAL DIRECTORY'!D:D,MATCH($A12,'DIGITAL DIRECTORY'!$S:$S,0)),"") | F12: =IFERROR(INDEX('DIGITAL DIRECTORY'!E:E,MATCH($A12,'DIGITAL DIRECTORY'!$S:$S,0)),"") | G12: =IFERROR(INDEX('DIGITAL DIRECTORY'!F:F,MATCH($A12,'DIGITAL DIRECTORY'!$S:$S,0)),"") | H12: =IFERROR(INDEX('DIGITAL DIRECTORY'!G:G,MATCH($A12,'DIGITAL DIRECTORY'!$S:$S,0)),"") | I12: =IFERROR(INDEX('DIGITAL DIRECTORY'!H:H,MATCH($A12,'DIGITAL DIRECTORY'!$S:$S,0)),"") | J12: =IFERROR(INDEX('DIGITAL DIRECTORY'!I:I,MATCH($A12,'DIGITAL DIRECTORY'!$S:$S,0)),"")
A13: 8 | B13: =IFERROR(INDEX('DIGITAL DIRECTORY'!B:B,MATCH($A13,'DIGITAL DIRECTORY'!$S:$S,0)),"") | C13: =IFERROR(INDEX('DIGITAL DIRECTORY'!J:J,MATCH($A13,'DIGITAL DIRECTORY'!$S:$S,0)),"") | D13: =IFERROR(INDEX('DIGITAL DIRECTORY'!A:A,MATCH($A13,'DIGITAL DIRECTORY'!$S:$S,0)),"") | E13: =IFERROR(INDEX('DIGITAL DIRECTORY'!D:D,MATCH($A13,'DIGITAL DIRECTORY'!$S:$S,0)),"") | F13: =IFERROR(INDEX('DIGITAL DIRECTORY'!E:E,MATCH($A13,'DIGITAL DIRECTORY'!$S:$S,0)),"") | G13: =IFERROR(INDEX('DIGITAL DIRECTORY'!F:F,MATCH($A13,'DIGITAL DIRECTORY'!$S:$S,0)),"") | H13: =IFERROR(INDEX('DIGITAL DIRECTORY'!G:G,MATCH($A13,'DIGITAL DIRECTORY'!$S:$S,0)),"") | I13: =IFERROR(INDEX('DIGITAL DIRECTORY'!H:H,MATCH($A13,'DIGITAL DIRECTORY'!$S:$S,0)),"") | J13: =IFERROR(INDEX('DIGITAL DIRECTORY'!I:I,MATCH($A13,'DIGITAL DIRECTORY'!$S:$S,0)),"")
A14: 9 | B14: =IFERROR(INDEX('DIGITAL DIRECTORY'!B:B,MATCH($A14,'DIGITAL DIRECTORY'!$S:$S,0)),"") | C14: =IFERROR(INDEX('DIGITAL DIRECTORY'!J:J,MATCH($A14,'DIGITAL DIRECTORY'!$S:$S,0)),"") | D14: =IFERROR(INDEX('DIGITAL DIRECTORY'!A:A,MATCH($A14,'DIGITAL DIRECTORY'!$S:$S,0)),"") | E14: =IFERROR(INDEX('DIGITAL DIRECTORY'!D:D,MATCH($A14,'DIGITAL DIRECTORY'!$S:$S,0)),"") | F14: =IFERROR(INDEX('DIGITAL DIRECTORY'!E:E,MATCH($A14,'DIGITAL DIRECTORY'!$S:$S,0)),"") | G14: =IFERROR(INDEX('DIGITAL DIRECTORY'!F:F,MATCH($A14,'DIGITAL DIRECTORY'!$S:$S,0)),"") | H14: =IFERROR(INDEX('DIGITAL DIRECTORY'!G:G,MATCH($A14,'DIGITAL DIRECTORY'!$S:$S,0)),"") | I14: =IFERROR(INDEX('DIGITAL DIRECTORY'!H:H,MATCH($A14,'DIGITAL DIRECTORY'!$S:$S,0)),"") | J14: =IFERROR(INDEX('DIGITAL DIRECTORY'!I:I,MATCH($A14,'DIGITAL DIRECTORY'!$S:$S,0)),"")
A15: 10 | B15: =IFERROR(INDEX('DIGITAL DIRECTORY'!B:B,MATCH($A15,'DIGITAL DIRECTORY'!$S:$S,0)),"") | C15: =IFERROR(INDEX('DIGITAL DIRECTORY'!J:J,MATCH($A15,'DIGITAL DIRECTORY'!$S:$S,0)),"") | D15: =IFERROR(INDEX('DIGITAL DIRECTORY'!A:A,MATCH($A15,'DIGITAL DIRECTORY'!$S:$S,0)),"") | E15: =IFERROR(INDEX('DIGITAL DIRECTORY'!D:D,MATCH($A15,'DIGITAL DIRECTORY'!$S:$S,0)),"") | F15: =IFERROR(INDEX('DIGITAL DIRECTORY'!E:E,MATCH($A15,'DIGITAL DIRECTORY'!$S:$S,0)),"") | G15: =IFERROR(INDEX('DIGITAL DIRECTORY'!F:F,MATCH($A15,'DIGITAL DIRECTORY'!$S:$S,0)),"") | H15: =IFERROR(INDEX('DIGITAL DIRECTORY'!G:G,MATCH($A15,'DIGITAL DIRECTORY'!$S:$S,0)),"") | I15: =IFERROR(INDEX('DIGITAL DIRECTORY'!H:H,MATCH($A15,'DIGITAL DIRECTORY'!$S:$S,0)),"") | J15: =IFERROR(INDEX('DIGITAL DIRECTORY'!I:I,MATCH($A15,'DIGITAL DIRECTORY'!$S:$S,0)),"")
A16: 11 | B16: =IFERROR(INDEX('DIGITAL DIRECTORY'!B:B,MATCH($A16,'DIGITAL DIRECTORY'!$S:$S,0)),"") | C16: =IFERROR(INDEX('DIGITAL DIRECTORY'!J:J,MATCH($A16,'DIGITAL DIRECTORY'!$S:$S,0)),"") | D16: =IFERROR(INDEX('DIGITAL DIRECTORY'!A:A,MATCH($A16,'DIGITAL DIRECTORY'!$S:$S,0)),"") | E16: =IFERROR(INDEX('DIGITAL DIRECTORY'!D:D,MATCH($A16,'DIGITAL DIRECTORY'!$S:$S,0)),"") | F16: =IFERROR(INDEX('DIGITAL DIRECTORY'!E:E,MATCH($A16,'DIGITAL DIRECTORY'!$S:$S,0)),"") | G16: =IFERROR(INDEX('DIGITAL DIRECTORY'!F:F,MATCH($A16,'DIGITAL DIRECTORY'!$S:$S,0)),"") | H16: =IFERROR(INDEX('DIGITAL DIRECTORY'!G:G,MATCH($A16,'DIGITAL DIRECTORY'!$S:$S,0)),"") | I16: =IFERROR(INDEX('DIGITAL DIRECTORY'!H:H,MATCH($A16,'DIGITAL DIRECTORY'!$S:$S,0)),"") | J16: =IFERROR(INDEX('DIGITAL DIRECTORY'!I:I,MATCH($A16,'DIGITAL DIRECTORY'!$S:$S,0)),"")
A17: 12 | B17: =IFERROR(INDEX('DIGITAL DIRECTORY'!B:B,MATCH($A17,'DIGITAL DIRECTORY'!$S:$S,0)),"") | C17: =IFERROR(INDEX('DIGITAL DIRECTORY'!J:J,MATCH($A17,'DIGITAL DIRECTORY'!$S:$S,0)),"") | D17: =IFERROR(INDEX('DIGITAL DIRECTORY'!A:A,MATCH($A17,'DIGITAL DIRECTORY'!$S:$S,0)),"") | E17: =IFERROR(INDEX('DIGITAL DIRECTORY'!D:D,MATCH($A17,'DIGITAL DIRECTORY'!$S:$S,0)),"") | F17: =IFERROR(INDEX('DIGITAL DIRECTORY'!E:E,MATCH($A17,'DIGITAL DIRECTORY'!$S:$S,0)),"") | G17: =IFERROR(INDEX('DIGITAL DIRECTORY'!F:F,MATCH($A17,'DIGITAL DIRECTORY'!$S:$S,0)),"") | H17: =IFERROR(INDEX('DIGITAL DIRECTORY'!G:G,MATCH($A17,'DIGITAL DIRECTORY'!$S:$S,0)),"") | I17: =IFERROR(INDEX('DIGITAL DIRECTORY'!H:H,MATCH($A17,'DIGITAL DIRECTORY'!$S:$S,0)),"") | J17: =IFERROR(INDEX('DIGITAL DIRECTORY'!I:I,MATCH($A17,'DIGITAL DIRECTORY'!$S:$S,0)),"")
... A35: 30 | B35: =IFERROR(INDEX('DIGITAL DIRECTORY'!B:B,MATCH($A35,'DIGITAL DIRECTORY'!$S:$S,0)),"") | C35: =IFERROR(INDEX('DIGITAL DIRECTORY'!J:J,MATCH($A35,'DIGITAL DIRECTORY'!$S:$S,0)),"") | D35: =IFERROR(INDEX('DIGITAL DIRECTORY'!A:A,MATCH($A35,'DIGITAL DIRECTORY'!$S:$S,0)),"") | E35: =IFERROR(INDEX('DIGITAL DIRECTORY'!D:D,MATCH($A35,'DIGITAL DIRECTORY'!$S:$S,0)),"") | F35: =IFERROR(INDEX('DIGITAL DIRECTORY'!E:E,MATCH($A35,'DIGITAL DIRECTORY'!$S:$S,0)),"") | G35: =IFERROR(INDEX('DIGITAL DIRECTORY'!F:F,MATCH($A35,'DIGITAL DIRECTORY'!$S:$S,0)),"") | H35: =IFERROR(INDEX('DIGITAL DIRECTORY'!G:G,MATCH($A35,'DIGITAL DIRECTORY'!$S:$S,0)),"") | I35: =IFERROR(INDEX('DIGITAL DIRECTORY'!H:H,MATCH($A35,'DIGITAL DIRECTORY'!$S:$S,0)),"") | J35: =IFERROR(INDEX('DIGITAL DIRECTORY'!I:I,MATCH($A35,'DIGITAL DIRECTORY'!$S:$S,0)),"")
A40: HOME PAGE | B40: System Date | C40: =TODAY() -> 42636 | D40: ANNIVERSARY ALERT's
A43: Sl.No. | B43: Alarm | C43: Date | D43: Rec.No. | E43: Name | F43: Recognition Tag | G43: Group | H43: Phone 1 | I43: Phone 2 | J43: Phone 3
A44: 1 | B44: =IFERROR(INDEX('DIGITAL DIRECTORY'!C:C,MATCH($A44,'DIGITAL DIRECTORY'!$U:$U,0)),"") | C44: =IFERROR(INDEX('DIGITAL DIRECTORY'!K:K,MATCH($A44,'DIGITAL DIRECTORY'!$U:$U,0)),"") | D44: =IFERROR(INDEX('DIGITAL DIRECTORY'!A:A,MATCH($A44,'DIGITAL DIRECTORY'!$U:$U,0)),"") | E44: =IFERROR(INDEX('DIGITAL DIRECTORY'!D:D,MATCH($A44,'DIGITAL DIRECTORY'!$U:$U,0)),"") | F44: =IFERROR(INDEX('DIGITAL DIRECTORY'!E:E,MATCH($A44,'DIGITAL DIRECTORY'!$U:$U,0)),"") | G44: =IFERROR(INDEX('DIGITAL DIRECTORY'!F:F,MATCH($A44,'DIGITAL DIRECTORY'!$U:$U,0)),"") | H44: =IFERROR(INDEX('DIGITAL DIRECTORY'!G:G,MATCH($A44,'DIGITAL DIRECTORY'!$U:$U,0)),"") | I44: =IFERROR(INDEX('DIGITAL DIRECTORY'!H:H,MATCH($A44,'DIGITAL DIRECTORY'!$U:$U,0)),"") | J44: =IFERROR(INDEX('DIGITAL DIRECTORY'!I:I,MATCH($A44,'DIGITAL DIRECTORY'!$U:$U,0)),"")
A45: 2 | B45: =IFERROR(INDEX('DIGITAL DIRECTORY'!C:C,MATCH($A45,'DIGITAL DIRECTORY'!$U:$U,0)),"") | C45: =IFERROR(INDEX('DIGITAL DIRECTORY'!K:K,MATCH($A45,'DIGITAL DIRECTORY'!$U:$U,0)),"") | D45: =IFERROR(INDEX('DIGITAL DIRECTORY'!A:A,MATCH($A45,'DIGITAL DIRECTORY'!$U:$U,0)),"") | E45: =IFERROR(INDEX('DIGITAL DIRECTORY'!D:D,MATCH($A45,'DIGITAL DIRECTORY'!$U:$U,0)),"") | F45: =IFERROR(INDEX('DIGITAL DIRECTORY'!E:E,MATCH($A45,'DIGITAL DIRECTORY'!$U:$U,0)),"") | G45: =IFERROR(INDEX('DIGITAL DIRECTORY'!F:F,MATCH($A45,'DIGITAL DIRECTORY'!$U:$U,0)),"") | H45: =IFERROR(INDEX('DIGITAL DIRECTORY'!G:G,MATCH($A45,'DIGITAL DIRECTORY'!$U:$U,0)),"") | I45: =IFERROR(INDEX('DIGITAL DIRECTORY'!H:H,MATCH($A45,'DIGITAL DIRECTORY'!$U:$U,0)),"") | J45: =IFERROR(INDEX('DIGITAL DIRECTORY'!I:I,MATCH($A45,'DIGITAL DIRECTORY'!$U:$U,0)),"")
A46: 3 | B46: =IFERROR(INDEX('DIGITAL DIRECTORY'!C:C,MATCH($A46,'DIGITAL DIRECTORY'!$U:$U,0)),"") | C46: =IFERROR(INDEX('DIGITAL DIRECTORY'!K:K,MATCH($A46,'DIGITAL DIRECTORY'!$U:$U,0)),"") | D46: =IFERROR(INDEX('DIGITAL DIRECTORY'!A:A,MATCH($A46,'DIGITAL DIRECTORY'!$U:$U,0)),"") | E46: =IFERROR(INDEX('DIGITAL DIRECTORY'!D:D,MATCH($A46,'DIGITAL DIRECTORY'!$U:$U,0)),"") | F46: =IFERROR(INDEX('DIGITAL DIRECTORY'!E:E,MATCH($A46,'DIGITAL DIRECTORY'!$U:$U,0)),"") | G46: =IFERROR(INDEX('DIGITAL DIRECTORY'!F:F,MATCH($A46,'DIGITAL DIRECTORY'!$U:$U,0)),"") | H46: =IFERROR(INDEX('DIGITAL DIRECTORY'!G:G,MATCH($A46,'DIGITAL DIRECTORY'!$U:$U,0)),"") | I46: =IFERROR(INDEX('DIGITAL DIRECTORY'!H:H,MATCH($A46,'DIGITAL DIRECTORY'!$U:$U,0)),"") | J46: =IFERROR(INDEX('DIGITAL DIRECTORY'!I:I,MATCH($A46,'DIGITAL DIRECTORY'!$U:$U,0)),"")
A47: 4 | B47: =IFERROR(INDEX('DIGITAL DIRECTORY'!C:C,MATCH($A47,'DIGITAL DIRECTORY'!$U:$U,0)),"") | C47: =IFERROR(INDEX('DIGITAL DIRECTORY'!K:K,MATCH($A47,'DIGITAL DIRECTORY'!$U:$U,0)),"") | D47: =IFERROR(INDEX('DIGITAL DIRECTORY'!A:A,MATCH($A47,'DIGITAL DIRECTORY'!$U:$U,0)),"") | E47: =IFERROR(INDEX('DIGITAL DIRECTORY'!D:D,MATCH($A47,'DIGITAL DIRECTORY'!$U:$U,0)),"") | F47: =IFERROR(INDEX('DIGITAL DIRECTORY'!E:E,MATCH($A47,'DIGITAL DIRECTORY'!$U:$U,0)),"") | G47: =IFERROR(INDEX('DIGITAL DIRECTORY'!F:F,MATCH($A47,'DIGITAL DIRECTORY'!$U:$U,0)),"") | H47: =IFERROR(INDEX('DIGITAL DIRECTORY'!G:G,MATCH($A47,'DIGITAL DIRECTORY'!$U:$U,0)),"") | I47: =IFERROR(INDEX('DIGITAL DIRECTORY'!H:H,MATCH($A47,'DIGITAL DIRECTORY'!$U:$U,0)),"") | J47: =IFERROR(INDEX('DIGITAL DIRECTORY'!I:I,MATCH($A47,'DIGITAL DIRECTORY'!$U:$U,0)),"")
A48: 5 | B48: =IFERROR(INDEX('DIGITAL DIRECTORY'!C:C,MATCH($A48,'DIGITAL DIRECTORY'!$U:$U,0)),"") | C48: =IFERROR(INDEX('DIGITAL DIRECTORY'!K:K,MATCH($A48,'DIGITAL DIRECTORY'!$U:$U,0)),"") | D48: =IFERROR(INDEX('DIGITAL DIRECTORY'!A:A,MATCH($A48,'DIGITAL DIRECTORY'!$U:$U,0)),"") | E48: =IFERROR(INDEX('DIGITAL DIRECTORY'!D:D,MATCH($A48,'DIGITAL DIRECTORY'!$U:$U,0)),"") | F48: =IFERROR(INDEX('DIGITAL DIRECTORY'!E:E,MATCH($A48,'DIGITAL DIRECTORY'!$U:$U,0)),"") | G48: =IFERROR(INDEX('DIGITAL DIRECTORY'!F:F,MATCH($A48,'DIGITAL DIRECTORY'!$U:$U,0)),"") | H48: =IFERROR(INDEX('DIGITAL DIRECTORY'!G:G,MATCH($A48,'DIGITAL DIRECTORY'!$U:$U,0)),"") | I48: =IFERROR(INDEX('DIGITAL DIRECTORY'!H:H,MATCH($A48,'DIGITAL DIRECTORY'!$U:$U,0)),"") | J48: =IFERROR(INDEX('DIGITAL DIRECTORY'!I:I,MATCH($A48,'DIGITAL DIRECTORY'!$U:$U,0)),"")
A49: 6 | B49: =IFERROR(INDEX('DIGITAL DIRECTORY'!C:C,MATCH($A49,'DIGITAL DIRECTORY'!$U:$U,0)),"") | C49: =IFERROR(INDEX('DIGITAL DIRECTORY'!K:K,MATCH($A49,'DIGITAL DIRECTORY'!$U:$U,0)),"") | D49: =IFERROR(INDEX('DIGITAL DIRECTORY'!A:A,MATCH($A49,'DIGITAL DIRECTORY'!$U:$U,0)),"") | E49: =IFERROR(INDEX('DIGITAL DIRECTORY'!D:D,MATCH($A49,'DIGITAL DIRECTORY'!$U:$U,0)),"") | F49: =IFERROR(INDEX('DIGITAL DIRECTORY'!E:E,MATCH($A49,'DIGITAL DIRECTORY'!$U:$U,0)),"") | G49: =IFERROR(INDEX('DIGITAL DIRECTORY'!F:F,MATCH($A49,'DIGITAL DIRECTORY'!$U:$U,0)),"") | H49: =IFERROR(INDEX('DIGITAL DIRECTORY'!G:G,MATCH($A49,'DIGITAL DIRECTORY'!$U:$U,0)),"") | I49: =IFERROR(INDEX('DIGITAL DIRECTORY'!H:H,MATCH($A49,'DIGITAL DIRECTORY'!$U:$U,0)),"") | J49: =IFERROR(INDEX('DIGITAL DIRECTORY'!I:I,MATCH($A49,'DIGITAL DIRECTORY'!$U:$U,0)),"")
A50: 7 | B50: =IFERROR(INDEX('DIGITAL DIRECTORY'!C:C,MATCH($A50,'DIGITAL DIRECTORY'!$U:$U,0)),"") | C50: =IFERROR(INDEX('DIGITAL DIRECTORY'!K:K,MATCH($A50,'DIGITAL DIRECTORY'!$U:$U,0)),"") | D50: =IFERROR(INDEX('DIGITAL DIRECTORY'!A:A,MATCH($A50,'DIGITAL DIRECTORY'!$U:$U,0)),"") | E50: =IFERROR(INDEX('DIGITAL DIRECTORY'!D:D,MATCH($A50,'DIGITAL DIRECTORY'!$U:$U,0)),"") | F50: =IFERROR(INDEX('DIGITAL DIRECTORY'!E:E,MATCH($A50,'DIGITAL DIRECTORY'!$U:$U,0)),"") | G50: =IFERROR(INDEX('DIGITAL DIRECTORY'!F:F,MATCH($A50,'DIGITAL DIRECTORY'!$U:$U,0)),"") | H50: =IFERROR(INDEX('DIGITAL DIRECTORY'!G:G,MATCH($A50,'DIGITAL DIRECTORY'!$U:$U,0)),"") | I50: =IFERROR(INDEX('DIGITAL DIRECTORY'!H:H,MATCH($A50,'DIGITAL DIRECTORY'!$U:$U,0)),"") | J50: =IFERROR(INDEX('DIGITAL DIRECTORY'!I:I,MATCH($A50,'DIGITAL DIRECTORY'!$U:$U,0)),"")
A51: 8 | B51: =IFERROR(INDEX('DIGITAL DIRECTORY'!C:C,MATCH($A51,'DIGITAL DIRECTORY'!$U:$U,0)),"") | C51: =IFERROR(INDEX('DIGITAL DIRECTORY'!K:K,MATCH($A51,'DIGITAL DIRECTORY'!$U:$U,0)),"") | D51: =IFERROR(INDEX('DIGITAL DIRECTORY'!A:A,MATCH($A51,'DIGITAL DIRECTORY'!$U:$U,0)),"") | E51: =IFERROR(INDEX('DIGITAL DIRECTORY'!D:D,MATCH($A51,'DIGITAL DIRECTORY'!$U:$U,0)),"") | F51: =IFERROR(INDEX('DIGITAL DIRECTORY'!E:E,MATCH($A51,'DIGITAL DIRECTORY'!$U:$U,0)),"") | G51: =IFERROR(INDEX('DIGITAL DIRECTORY'!F:F,MATCH($A51,'DIGITAL DIRECTORY'!$U:$U,0)),"") | H51: =IFERROR(INDEX('DIGITAL DIRECTORY'!G:G,MATCH($A51,'DIGITAL DIRECTORY'!$U:$U,0)),"") | I51: =IFERROR(INDEX('DIGITAL DIRECTORY'!H:H,MATCH($A51,'DIGITAL DIRECTORY'!$U:$U,0)),"") | J51: =IFERROR(INDEX('DIGITAL DIRECTORY'!I:I,MATCH($A51,'DIGITAL DIRECTORY'!$U:$U,0)),"")
A52: 9 | B52: =IFERROR(INDEX('DIGITAL DIRECTORY'!C:C,MATCH($A52,'DIGITAL DIRECTORY'!$U:$U,0)),"") | C52: =IFERROR(INDEX('DIGITAL DIRECTORY'!K:K,MATCH($A52,'DIGITAL DIRECTORY'!$U:$U,0)),"") | D52: =IFERROR(INDEX('DIGITAL DIRECTORY'!A:A,MATCH($A52,'DIGITAL DIRECTORY'!$U:$U,0)),"") | E52: =IFERROR(INDEX('DIGITAL DIRECTORY'!D:D,MATCH($A52,'DIGITAL DIRECTORY'!$U:$U,0)),"") | F52: =IFERROR(INDEX('DIGITAL DIRECTORY'!E:E,MATCH($A52,'DIGITAL DIRECTORY'!$U:$U,0)),"") | G52: =IFERROR(INDEX('DIGITAL DIRECTORY'!F:F,MATCH($A52,'DIGITAL DIRECTORY'!$U:$U,0)),"") | H52: =IFERROR(INDEX('DIGITAL DIRECTORY'!G:G,MATCH($A52,'DIGITAL DIRECTORY'!$U:$U,0)),"") | I52: =IFERROR(INDEX('DIGITAL DIRECTORY'!H:H,MATCH($A52,'DIGITAL DIRECTORY'!$U:$U,0)),"") | J52: =IFERROR(INDEX('DIGITAL DIRECTORY'!I:I,MATCH($A52,'DIGITAL DIRECTORY'!$U:$U,0)),"")
A53: 10 | B53: =IFERROR(INDEX('DIGITAL DIRECTORY'!C:C,MATCH($A53,'DIGITAL DIRECTORY'!$U:$U,0)),"") | C53: =IFERROR(INDEX('DIGITAL DIRECTORY'!K:K,MATCH($A53,'DIGITAL DIRECTORY'!$U:$U,0)),"") | D53: =IFERROR(INDEX('DIGITAL DIRECTORY'!A:A,MATCH($A53,'DIGITAL DIRECTORY'!$U:$U,0)),"") | E53: =IFERROR(INDEX('DIGITAL DIRECTORY'!D:D,MATCH($A53,'DIGITAL DIRECTORY'!$U:$U,0)),"") | F53: =IFERROR(INDEX('DIGITAL DIRECTORY'!E:E,MATCH($A53,'DIGITAL DIRECTORY'!$U:$U,0)),"") | G53: =IFERROR(INDEX('DIGITAL DIRECTORY'!F:F,MATCH($A53,'DIGITAL DIRECTORY'!$U:$U,0)),"") | H53: =IFERROR(INDEX('DIGITAL DIRECTORY'!G:G,MATCH($A53,'DIGITAL DIRECTORY'!$U:$U,0)),"") | I53: =IFERROR(INDEX('DIGITAL DIRECTORY'!H:H,MATCH($A53,'DIGITAL DIRECTORY'!$U:$U,0)),"") | J53: =IFERROR(INDEX('DIGITAL DIRECTORY'!I:I,MATCH($A53,'DIGITAL DIRECTORY'!$U:$U,0)),"")
A54: 11 | B54: =IFERROR(INDEX('DIGITAL DIRECTORY'!C:C,MATCH($A54,'DIGITAL DIRECTORY'!$U:$U,0)),"") | C54: =IFERROR(INDEX('DIGITAL DIRECTORY'!K:K,MATCH($A54,'DIGITAL DIRECTORY'!$U:$U,0)),"") | D54: =IFERROR(INDEX('DIGITAL DIRECTORY'!A:A,MATCH($A54,'DIGITAL DIRECTORY'!$U:$U,0)),"") | E54: =IFERROR(INDEX('DIGITAL DIRECTORY'!D:D,MATCH($A54,'DIGITAL DIRECTORY'!$U:$U,0)),"") | F54: =IFERROR(INDEX('DIGITAL DIRECTORY'!E:E,MATCH($A54,'DIGITAL DIRECTORY'!$U:$U,0)),"") | G54: =IFERROR(INDEX('DIGITAL DIRECTORY'!F:F,MATCH($A54,'DIGITAL DIRECTORY'!$U:$U,0)),"") | H54: =IFERROR(INDEX('DIGITAL DIRECTORY'!G:G,MATCH($A54,'DIGITAL DIRECTORY'!$U:$U,0)),"") | I54: =IFERROR(INDEX('DIGITAL DIRECTORY'!H:H,MATCH($A54,'DIGITAL DIRECTORY'!$U:$U,0)),"") | J54: =IFERROR(INDEX('DIGITAL DIRECTORY'!I:I,MATCH($A54,'DIGITAL DIRECTORY'!$U:$U,0)),"")
A55: 12 | B55: =IFERROR(INDEX('DIGITAL DIRECTORY'!C:C,MATCH($A55,'DIGITAL DIRECTORY'!$U:$U,0)),"") | C55: =IFERROR(INDEX('DIGITAL DIRECTORY'!K:K,MATCH($A55,'DIGITAL DIRECTORY'!$U:$U,0)),"") | D55: =IFERROR(INDEX('DIGITAL DIRECTORY'!A:A,MATCH($A55,'DIGITAL DIRECTORY'!$U:$U,0)),"") | E55: =IFERROR(INDEX('DIGITAL DIRECTORY'!D:D,MATCH($A55,'DIGITAL DIRECTORY'!$U:$U,0)),"") | F55: =IFERROR(INDEX('DIGITAL DIRECTORY'!E:E,MATCH($A55,'DIGITAL DIRECTORY'!$U:$U,0)),"") | G55: =IFERROR(INDEX('DIGITAL DIRECTORY'!F:F,MATCH($A55,'DIGITAL DIRECTORY'!$U:$U,0)),"") | H55: =IFERROR(INDEX('DIGITAL DIRECTORY'!G:G,MATCH($A55,'DIGITAL DIRECTORY'!$U:$U,0)),"") | I55: =IFERROR(INDEX('DIGITAL DIRECTORY'!H:H,MATCH($A55,'DIGITAL DIRECTORY'!$U:$U,0)),"") | J55: =IFERROR(INDEX('DIGITAL DIRECTORY'!I:I,MATCH($A55,'DIGITAL DIRECTORY'!$U:$U,0)),"")
... A73: 30 | B73: =IFERROR(INDEX('DIGITAL DIRECTORY'!C:C,MATCH($A73,'DIGITAL DIRECTORY'!$U:$U,0)),"") | C73: =IFERROR(INDEX('DIGITAL DIRECTORY'!K:K,MATCH($A73,'DIGITAL DIRECTORY'!$U:$U,0)),"") | D73: =IFERROR(INDEX('DIGITAL DIRECTORY'!A:A,MATCH($A73,'DIGITAL DIRECTORY'!$U:$U,0)),"") | E73: =IFERROR(INDEX('DIGITAL DIRECTORY'!D:D,MATCH($A73,'DIGITAL DIRECTORY'!$U:$U,0)),"") | F73: =IFERROR(INDEX('DIGITAL DIRECTORY'!E:E,MATCH($A73,'DIGITAL DIRECTORY'!$U:$U,0)),"") | G73: =IFERROR(INDEX('DIGITAL DIRECTORY'!F:F,MATCH($A73,'DIGITAL DIRECTORY'!$U:$U,0)),"") | H73: =IFERROR(INDEX('DIGITAL DIRECTORY'!G:G,MATCH($A73,'DIGITAL DIRECTORY'!$U:$U,0)),"") | I73: =IFERROR(INDEX('DIGITAL DIRECTORY'!H:H,MATCH($A73,'DIGITAL DIRECTORY'!$U:$U,0)),"") | J73: =IFERROR(INDEX('DIGITAL DIRECTORY'!I:I,MATCH($A73,'DIGITAL DIRECTORY'!$U:$U,0)),"")
