Workbook

Sheet Main
A1: Adjust this column width to centre align menu location >>

Sheet search
A3: Select Group | B3: bank | E3: Scroll down or up to select your option
A5: Sl.No. | B5: Rec.No. | C5: Account / ID | D5: Password | E5: Remarks
A6: 1 | B6: =IFERROR(INDEX(database!$A$5:$A$504,MATCH(search!A6,database!$G$5:$G$504,0)),"") | C6: =IFERROR(INDEX(database!$B$5:$B$504,MATCH(search!A6,database!$G$5:$G$504,0)),"") | D6: =IFERROR(INDEX(database!$C$5:$C$504,MATCH(search!A6,database!$G$5:$G$504,0)),"") | E6: =IFERROR(INDEX(database!$E$5:$E$504,MATCH(search!A6,database!$G$5:$G$504,0)),"")
A7: 2 | B7: =IFERROR(INDEX(database!$A$5:$A$504,MATCH(search!A7,database!$G$5:$G$504,0)),"") | C7: =IFERROR(INDEX(database!$B$5:$B$504,MATCH(search!A7,database!$G$5:$G$504,0)),"") | D7: =IFERROR(INDEX(database!$C$5:$C$504,MATCH(search!A7,database!$G$5:$G$504,0)),"") | E7: =IFERROR(INDEX(database!$E$5:$E$504,MATCH(search!A7,database!$G$5:$G$504,0)),"")
A8: 3 | B8: =IFERROR(INDEX(database!$A$5:$A$504,MATCH(search!A8,database!$G$5:$G$504,0)),"") | C8: =IFERROR(INDEX(database!$B$5:$B$504,MATCH(search!A8,database!$G$5:$G$504,0)),"") | D8: =IFERROR(INDEX(database!$C$5:$C$504,MATCH(search!A8,database!$G$5:$G$504,0)),"") | E8: =IFERROR(INDEX(database!$E$5:$E$504,MATCH(search!A8,database!$G$5:$G$504,0)),"")
A9: 4 | B9: =IFERROR(INDEX(database!$A$5:$A$504,MATCH(search!A9,database!$G$5:$G$504,0)),"") | C9: =IFERROR(INDEX(database!$B$5:$B$504,MATCH(search!A9,database!$G$5:$G$504,0)),"") | D9: =IFERROR(INDEX(database!$C$5:$C$504,MATCH(search!A9,database!$G$5:$G$504,0)),"") | E9: =IFERROR(INDEX(database!$E$5:$E$504,MATCH(search!A9,database!$G$5:$G$504,0)),"")
A10: 5 | B10: =IFERROR(INDEX(database!$A$5:$A$504,MATCH(search!A10,database!$G$5:$G$504,0)),"") | C10: =IFERROR(INDEX(database!$B$5:$B$504,MATCH(search!A10,database!$G$5:$G$504,0)),"") | D10: =IFERROR(INDEX(database!$C$5:$C$504,MATCH(search!A10,database!$G$5:$G$504,0)),"") | E10: =IFERROR(INDEX(database!$E$5:$E$504,MATCH(search!A10,database!$G$5:$G$504,0)),"")
A11: 6 | B11: =IFERROR(INDEX(database!$A$5:$A$504,MATCH(search!A11,database!$G$5:$G$504,0)),"") | C11: =IFERROR(INDEX(database!$B$5:$B$504,MATCH(search!A11,database!$G$5:$G$504,0)),"") | D11: =IFERROR(INDEX(database!$C$5:$C$504,MATCH(search!A11,database!$G$5:$G$504,0)),"") | E11: =IFERROR(INDEX(database!$E$5:$E$504,MATCH(search!A11,database!$G$5:$G$504,0)),"")
A12: 7 | B12: =IFERROR(INDEX(database!$A$5:$A$504,MATCH(search!A12,database!$G$5:$G$504,0)),"") | C12: =IFERROR(INDEX(database!$B$5:$B$504,MATCH(search!A12,database!$G$5:$G$504,0)),"") | D12: =IFERROR(INDEX(database!$C$5:$C$504,MATCH(search!A12,database!$G$5:$G$504,0)),"") | E12: =IFERROR(INDEX(database!$E$5:$E$504,MATCH(search!A12,database!$G$5:$G$504,0)),"")
A13: 8 | B13: =IFERROR(INDEX(database!$A$5:$A$504,MATCH(search!A13,database!$G$5:$G$504,0)),"") | C13: =IFERROR(INDEX(database!$B$5:$B$504,MATCH(search!A13,database!$G$5:$G$504,0)),"") | D13: =IFERROR(INDEX(database!$C$5:$C$504,MATCH(search!A13,database!$G$5:$G$504,0)),"") | E13: =IFERROR(INDEX(database!$E$5:$E$504,MATCH(search!A13,database!$G$5:$G$504,0)),"")
A14: 9 | B14: =IFERROR(INDEX(database!$A$5:$A$504,MATCH(search!A14,database!$G$5:$G$504,0)),"") | C14: =IFERROR(INDEX(database!$B$5:$B$504,MATCH(search!A14,database!$G$5:$G$504,0)),"") | D14: =IFERROR(INDEX(database!$C$5:$C$504,MATCH(search!A14,database!$G$5:$G$504,0)),"") | E14: =IFERROR(INDEX(database!$E$5:$E$504,MATCH(search!A14,database!$G$5:$G$504,0)),"")
A15: 10 | B15: =IFERROR(INDEX(database!$A$5:$A$504,MATCH(search!A15,database!$G$5:$G$504,0)),"") | C15: =IFERROR(INDEX(database!$B$5:$B$504,MATCH(search!A15,database!$G$5:$G$504,0)),"") | D15: =IFERROR(INDEX(database!$C$5:$C$504,MATCH(search!A15,database!$G$5:$G$504,0)),"") | E15: =IFERROR(INDEX(database!$E$5:$E$504,MATCH(search!A15,database!$G$5:$G$504,0)),"")
A16: 11 | B16: =IFERROR(INDEX(database!$A$5:$A$504,MATCH(search!A16,database!$G$5:$G$504,0)),"") | C16: =IFERROR(INDEX(database!$B$5:$B$504,MATCH(search!A16,database!$G$5:$G$504,0)),"") | D16: =IFERROR(INDEX(database!$C$5:$C$504,MATCH(search!A16,database!$G$5:$G$504,0)),"") | E16: =IFERROR(INDEX(database!$E$5:$E$504,MATCH(search!A16,database!$G$5:$G$504,0)),"")
A17: 12 | B17: =IFERROR(INDEX(database!$A$5:$A$504,MATCH(search!A17,database!$G$5:$G$504,0)),"") | C17: =IFERROR(INDEX(database!$B$5:$B$504,MATCH(search!A17,database!$G$5:$G$504,0)),"") | D17: =IFERROR(INDEX(database!$C$5:$C$504,MATCH(search!A17,database!$G$5:$G$504,0)),"") | E17: =IFERROR(INDEX(database!$E$5:$E$504,MATCH(search!A17,database!$G$5:$G$504,0)),"")
... A105: 100 | B105: =IFERROR(INDEX(database!$A$5:$A$504,MATCH(search!A105,database!$G$5:$G$504,0)),"") | C105: =IFERROR(INDEX(database!$B$5:$B$504,MATCH(search!A105,database!$G$5:$G$504,0)),"") | D105: =IFERROR(INDEX(database!$C$5:$C$504,MATCH(search!A105,database!$G$5:$G$504,0)),"") | E105: =IFERROR(INDEX(database!$E$5:$E$504,MATCH(search!A105,database!$G$5:$G$504,0)),"")

Sheet database
D2: ="Space used - "&(COUNTA(B5:B504)&" / 500 = "&(COUNTA(B5:B504)/500*100)&"%") -> Space used - 0 / 500 = 0% | E2: =REPT("l",(COUNTA(B5:B504)/500*100)/2)&" "&(COUNTA(B5:B504)/500*100)&"%" -> 0%
C3: Add / Edit / Delete Data | D3: =search!B3 -> bank
A4: Rec.No. | B4: Account / ID / User name | C4: Password | D4: Group | E4: Remarks | F4: select | G4: sl | H4: nmbr | I4: list | J4: select | K4: sl2 | L4: dd list
A5: 1 | F5: =IF(D5=$D$3,"S","") | G5: =IF(F5="","",COUNTIF($F$5:F5,"S")) | H5: =COUNTIF($D$5:D5,D5) -> 0 | I5: =IF(H5=1,D5,"") | J5: =IF(I5="","","t") | K5: =IF(J5="","",COUNTIF(J$5:J5,"t")) | L5: =IFERROR(INDEX($I$5:$I$505,MATCH(A5,$K$5:$K$504,0)),"")
A6: 2 | F6: =IF(D6=$D$3,"S","") | G6: =IF(F6="","",COUNTIF($F$5:F6,"S")) | H6: =COUNTIF($D$5:D6,D6) -> 0 | I6: =IF(H6=1,D6,"") | J6: =IF(I6="","","t") | K6: =IF(J6="","",COUNTIF(J$5:J6,"t")) | L6: =IFERROR(INDEX($I$5:$I$505,MATCH(A6,$K$5:$K$504,0)),"")
A7: 3 | F7: =IF(D7=$D$3,"S","") | G7: =IF(F7="","",COUNTIF($F$5:F7,"S")) | H7: =COUNTIF($D$5:D7,D7) -> 0 | I7: =IF(H7=1,D7,"") | J7: =IF(I7="","","t") | K7: =IF(J7="","",COUNTIF(J$5:J7,"t")) | L7: =IFERROR(INDEX($I$5:$I$505,MATCH(A7,$K$5:$K$504,0)),"")
A8: 4 | F8: =IF(D8=$D$3,"S","") | G8: =IF(F8="","",COUNTIF($F$5:F8,"S")) | H8: =COUNTIF($D$5:D8,D8) -> 0 | I8: =IF(H8=1,D8,"") | J8: =IF(I8="","","t") | K8: =IF(J8="","",COUNTIF(J$5:J8,"t")) | L8: =IFERROR(INDEX($I$5:$I$505,MATCH(A8,$K$5:$K$504,0)),"")
A9: 5 | F9: =IF(D9=$D$3,"S","") | G9: =IF(F9="","",COUNTIF($F$5:F9,"S")) | H9: =COUNTIF($D$5:D9,D9) -> 0 | I9: =IF(H9=1,D9,"") | J9: =IF(I9="","","t") | K9: =IF(J9="","",COUNTIF(J$5:J9,"t")) | L9: =IFERROR(INDEX($I$5:$I$505,MATCH(A9,$K$5:$K$504,0)),"")
A10: 6 | F10: =IF(D10=$D$3,"S","") | G10: =IF(F10="","",COUNTIF($F$5:F10,"S")) | H10: =COUNTIF($D$5:D10,D10) -> 0 | I10: =IF(H10=1,D10,"") | J10: =IF(I10="","","t") | K10: =IF(J10="","",COUNTIF(J$5:J10,"t")) | L10: =IFERROR(INDEX($I$5:$I$505,MATCH(A10,$K$5:$K$504,0)),"")
A11: 7 | F11: =IF(D11=$D$3,"S","") | G11: =IF(F11="","",COUNTIF($F$5:F11,"S")) | H11: =COUNTIF($D$5:D11,D11) -> 0 | I11: =IF(H11=1,D11,"") | J11: =IF(I11="","","t") | K11: =IF(J11="","",COUNTIF(J$5:J11,"t")) | L11: =IFERROR(INDEX($I$5:$I$505,MATCH(A11,$K$5:$K$504,0)),"")
A12: 8 | F12: =IF(D12=$D$3,"S","") | G12: =IF(F12="","",COUNTIF($F$5:F12,"S")) | H12: =COUNTIF($D$5:D12,D12) -> 0 | I12: =IF(H12=1,D12,"") | J12: =IF(I12="","","t") | K12: =IF(J12="","",COUNTIF(J$5:J12,"t")) | L12: =IFERROR(INDEX($I$5:$I$505,MATCH(A12,$K$5:$K$504,0)),"")
A13: 9 | F13: =IF(D13=$D$3,"S","") | G13: =IF(F13="","",COUNTIF($F$5:F13,"S")) | H13: =COUNTIF($D$5:D13,D13) -> 0 | I13: =IF(H13=1,D13,"") | J13: =IF(I13="","","t") | K13: =IF(J13="","",COUNTIF(J$5:J13,"t")) | L13: =IFERROR(INDEX($I$5:$I$505,MATCH(A13,$K$5:$K$504,0)),"")
A14: 10 | F14: =IF(D14=$D$3,"S","") | G14: =IF(F14="","",COUNTIF($F$5:F14,"S")) | H14: =COUNTIF($D$5:D14,D14) -> 0 | I14: =IF(H14=1,D14,"") | J14: =IF(I14="","","t") | K14: =IF(J14="","",COUNTIF(J$5:J14,"t")) | L14: =IFERROR(INDEX($I$5:$I$505,MATCH(A14,$K$5:$K$504,0)),"")
A15: 11 | F15: =IF(D15=$D$3,"S","") | G15: =IF(F15="","",COUNTIF($F$5:F15,"S")) | H15: =COUNTIF($D$5:D15,D15) -> 0 | I15: =IF(H15=1,D15,"") | J15: =IF(I15="","","t") | K15: =IF(J15="","",COUNTIF(J$5:J15,"t")) | L15: =IFERROR(INDEX($I$5:$I$505,MATCH(A15,$K$5:$K$504,0)),"")
A16: 12 | F16: =IF(D16=$D$3,"S","") | G16: =IF(F16="","",COUNTIF($F$5:F16,"S")) | H16: =COUNTIF($D$5:D16,D16) -> 0 | I16: =IF(H16=1,D16,"") | J16: =IF(I16="","","t") | K16: =IF(J16="","",COUNTIF(J$5:J16,"t")) | L16: =IFERROR(INDEX($I$5:$I$505,MATCH(A16,$K$5:$K$504,0)),"")
... A504: 500 | F504: =IF(D504=$D$3,"S","") | G504: =IF(F504="","",COUNTIF($F$5:F504,"S")) | H504: =COUNTIF($D$5:D504,D504) -> 0 | I504: =IF(H504=1,D504,"") | J504: =IF(I504="","","t") | K504: =IF(J504="","",COUNTIF(J$5:J504,"t")) | L504: =IFERROR(INDEX($I$5:$I$505,MATCH(A504,$K$5:$K$504,0)),"")

Sheet password
A4: Steps for MS Excel
A5: 1 | B5: Go to File > Save as OR Press F12
A6: 2 | B6: Select Tools > General Options
A7: 3 | B7: Type your password in "Password to Open"
A8: 4 | B8: And press Save
A15: Steps for WPS Spreadsheet
A16: 1 | B16: Go to File > Save as OR Press F12
A17: 2 | B17: Select Encrypt
A18: 3 | B18: Type your password in "Document Password" and "Reenter Password to Open"
A19: 4 | B19: And press Save
A25: Steps for Libre Office & Open Office
A26: 1 | B26: Go to File > Save as
A27: 2 | B27: Mark on "Save with password"
A28: 3 | B28: And press Save (save as ODS file)
